BEGIN:VCALENDAR
VERSION:2.0
PRODID:-//Willkommen in Olpe - ECPv6.11.2.1//NONSGML v1.0//EN
CALSCALE:GREGORIAN
METHOD:PUBLISH
X-ORIGINAL-URL:http://www.willkommeninolpe.de
X-WR-CALDESC:Veranstaltungen für Willkommen in Olpe
REFRESH-INTERVAL;VALUE=DURATION:PT1H
X-Robots-Tag:noindex
X-PUBLISHED-TTL:PT1H
BEGIN:VTIMEZONE
TZID:Europe/Berlin
BEGIN:DAYLIGHT
TZOFFSETFROM:+0100
TZOFFSETTO:+0200
TZNAME:CEST
DTSTART:20190331T010000
END:DAYLIGHT
BEGIN:STANDARD
TZOFFSETFROM:+0200
TZOFFSETTO:+0100
TZNAME:CET
DTSTART:20191027T010000
END:STANDARD
END:VTIMEZONE
BEGIN:VEVENT
DTSTART;TZID=Europe/Berlin:20190825T130000
DTEND;TZID=Europe/Berlin:20190825T170000
DTSTAMP:20260423T040526
CREATED:20190318T095220Z
LAST-MODIFIED:20190526T110221Z
UID:2539-1566738000-1566752400@www.willkommeninolpe.de
SUMMARY:Willkommen zu Hause Picknick
DESCRIPTION:Das Willkommen zu Hause Picknick findet am 25.8.19 von 13-17 Uhr\, am Geschichtsbrunnen bis hin zur Brücke im Weierhohl statt. Jeder ist herzlich willkommen. \nBringt bitte Picknickdecke und Kulinarisches zum Teilen mit. Der Verein WiO sorgt für Gutes vom Grill und Kaltgetränke. Mit von der Partie sind Musiker aus dem Kreis Olpe\, die akustisch das Picknick begleiten und zur gemeinsamen Jam Session einladen. \nFür die kleinen Gäste wird das Spielemobil vom Jugendparlament Olpe betreut. Außerdem steht Kinderschminken auf dem Programm. \nWir freuen uns auf alle Kinder\, Eltern\, Senioren\, Bürger dieser Stadt\, die begeistert sind\, nach den Sommerferien wieder zu Hause zu sein und mit uns gemeinsam ein buntes Picknick\, quer durch alle Kulturen gestalten. \nGleichzeitig rufen wir alle Vereine und Hilfsorganisationen\, sowie die Verwaltung auf\, an unserem gemeinsamen Picknick teilzunehmen. Weitere Infos folgen in Kürze.
URL:http://www.willkommeninolpe.de/veranstaltung/save-the-wio-date/
LOCATION:Weierhohl\, Im Weierhohl\, Olpe\, 57462\, Deutschland
ATTACH;FMTTYPE=image/png:http://www.willkommeninolpe.de/wp-content/uploads/2019/03/WiOPicknick2019_2zu1.png
END:VEVENT
END:VCALENDAR