BEGIN:VCALENDAR
VERSION:2.0
PRODID:-//Willkommen in Olpe - ECPv6.11.2.1//NONSGML v1.0//EN
CALSCALE:GREGORIAN
METHOD:PUBLISH
X-ORIGINAL-URL:http://www.willkommeninolpe.de
X-WR-CALDESC:Veranstaltungen für Willkommen in Olpe
REFRESH-INTERVAL;VALUE=DURATION:PT1H
X-Robots-Tag:noindex
X-PUBLISHED-TTL:PT1H
BEGIN:VTIMEZONE
TZID:Europe/Berlin
BEGIN:DAYLIGHT
TZOFFSETFROM:+0100
TZOFFSETTO:+0200
TZNAME:CEST
DTSTART:20200329T010000
END:DAYLIGHT
BEGIN:STANDARD
TZOFFSETFROM:+0200
TZOFFSETTO:+0100
TZNAME:CET
DTSTART:20201025T010000
END:STANDARD
END:VTIMEZONE
BEGIN:VEVENT
DTSTART;TZID=Europe/Berlin:20200310T190000
DTEND;TZID=Europe/Berlin:20200310T200000
DTSTAMP:20260422T181648
CREATED:20200306T075848Z
LAST-MODIFIED:20200306T080530Z
UID:2676-1583866800-1583870400@www.willkommeninolpe.de
SUMMARY:öffentliche Jahreshauptversammlung WiO
DESCRIPTION:Am 10.03.2020 um 19 Uhr im Alten Pastorat (über der Martinus Kirche\, gegenüber Cosmo Lounge) findet unsere Jahreshauptversammlung statt.\nAlle interessierten Bürgerinnen und Bürger sind herzlich willkommen.
URL:http://www.willkommeninolpe.de/veranstaltung/oeffentliche-jahreshauptversammlung-wio/
LOCATION:Altes Pastorat\, Kirchgasse 2\, Olpe\, NRW\, 57462
END:VEVENT
END:VCALENDAR