BEGIN:VCALENDAR
VERSION:2.0
PRODID:-//Willkommen in Olpe - ECPv6.11.2.1//NONSGML v1.0//EN
CALSCALE:GREGORIAN
METHOD:PUBLISH
X-WR-CALNAME:Willkommen in Olpe
X-ORIGINAL-URL:http://www.willkommeninolpe.de
X-WR-CALDESC:Veranstaltungen für Willkommen in Olpe
REFRESH-INTERVAL;VALUE=DURATION:PT1H
X-Robots-Tag:noindex
X-PUBLISHED-TTL:PT1H
BEGIN:VTIMEZONE
TZID:Europe/Berlin
BEGIN:DAYLIGHT
TZOFFSETFROM:+0100
TZOFFSETTO:+0200
TZNAME:CEST
DTSTART:20200329T010000
END:DAYLIGHT
BEGIN:STANDARD
TZOFFSETFROM:+0200
TZOFFSETTO:+0100
TZNAME:CET
DTSTART:20201025T010000
END:STANDARD
END:VTIMEZONE
BEGIN:VEVENT
DTSTART;TZID=Europe/Berlin:20200808T100000
DTEND;TZID=Europe/Berlin:20200808T130000
DTSTAMP:20260420T035834
CREATED:20200807T170517Z
LAST-MODIFIED:20200807T170517Z
UID:2701-1596880800-1596891600@www.willkommeninolpe.de
SUMMARY:Zeig dein Gesicht für ein offenes Olpe #allpe
DESCRIPTION:Hallo Olpe\,\n\n\nleider fällt unser Picknick dieses Jahr aus. Aber… am Samstag stehen wir\, das Jugendparlament Olpe und Willkommen in Olpe mit einem Stand direkt vor der Martinuskirche von 10 bis 13 Uhr. Wir haben eine Fotobox und gute Musik! Kommt vorbei und zeigt uns Euer buntes\, junges\, altes\, fröhliches\, sonniges\, braunes\, weisses\, gelbes\, lächelndes Gesicht. Denn Olpe ist bunt\, friedliebend\, gastfreundlich und herzlich. Lasst uns gemeinsam Fotos machen und die Stadt damit schmücken. Wir freuen uns sehr! Eure Jupas und Wiologen\nWer nicht vor Ort dabei sein kann\, läd sein Foto bei Facebook oder Instagram unter dem #Allpe hoch.
URL:http://www.willkommeninolpe.de/veranstaltung/zeig-dein-gesicht-fuer-ein-offenes-olpe-allpe/
LOCATION:Vor der Martinusirche\, Frankfurter Str. 4\, Olpe\, 57462
ATTACH;FMTTYPE=image/jpeg:http://www.willkommeninolpe.de/wp-content/uploads/2020/08/wio-jupa.jpg
END:VEVENT
END:VCALENDAR