BEGIN:VCALENDAR
VERSION:2.0
PRODID:-//Willkommen in Olpe - ECPv6.11.2.1//NONSGML v1.0//EN
CALSCALE:GREGORIAN
METHOD:PUBLISH
X-ORIGINAL-URL:http://www.willkommeninolpe.de
X-WR-CALDESC:Veranstaltungen für Willkommen in Olpe
REFRESH-INTERVAL;VALUE=DURATION:PT1H
X-Robots-Tag:noindex
X-PUBLISHED-TTL:PT1H
BEGIN:VTIMEZONE
TZID:Europe/Berlin
BEGIN:DAYLIGHT
TZOFFSETFROM:+0100
TZOFFSETTO:+0200
TZNAME:CEST
DTSTART:20210328T010000
END:DAYLIGHT
BEGIN:STANDARD
TZOFFSETFROM:+0200
TZOFFSETTO:+0100
TZNAME:CET
DTSTART:20211031T010000
END:STANDARD
END:VTIMEZONE
BEGIN:VEVENT
DTSTART;TZID=Europe/Berlin:20210119T180000
DTEND;TZID=Europe/Berlin:20210119T190000
DTSTAMP:20260419T174244
CREATED:20210116T095912Z
LAST-MODIFIED:20210116T095912Z
UID:2866-1611079200-1611082800@www.willkommeninolpe.de
SUMMARY:„6 Ührchen” - Online-Stammtisch
DESCRIPTION:Hallo Welt!\n Juhu\, es gibt etwas Neues für OLPE:\nDer 1. Online-Stammtisch für Olpe namens\n„6 Ührchen”\nam kommenden DIENSTAG\, 19. Januar 2021\nvon 18-19 Uhr\nfür alle\, die Lust auf ein virtuelles Bierchen/Tee/Saft haben!\n*Zusammenkommen * Kennenlernen * Quatschen * Fröhlich auseinander gehen*\n– Die alternative „Online-Kneipe”\n– Einfach nette Leute kennenlernen\n– Moderierte Veranstaltung\n– Für neue und alteingesessene Olper*innen\n– Kostenlos & keine Anmeldung notwendig\n– Per Zoom-videokonferenz: Einfach ab 17.45 Uhr reinklicken unter https://us02web.zoom.us/j/82777864004\n– Habt ihr noch Fragen? Einfach unter dem Beitrag stellen!\nWir freuen uns auf Euch!\nEuer Willkommen in Olpe – Team\n***\nTeilt gerne den Beitrag\, damit die virtuelle Kneipe voll wird und kommentiert hier unter dem Beitrag\, wie Ihr die Idee findet\, und ob Ihr dabei seid !
URL:http://www.willkommeninolpe.de/veranstaltung/6-uehrchen-online-stammtisch/
LOCATION:NRW
ATTACH;FMTTYPE=image/png:http://www.willkommeninolpe.de/wp-content/uploads/2021/01/6uehrchen.png
END:VEVENT
END:VCALENDAR