BEGIN:VCALENDAR
VERSION:2.0
PRODID:-//Willkommen in Olpe - ECPv6.11.2.1//NONSGML v1.0//EN
CALSCALE:GREGORIAN
METHOD:PUBLISH
X-ORIGINAL-URL:http://www.willkommeninolpe.de
X-WR-CALDESC:Veranstaltungen für Willkommen in Olpe
REFRESH-INTERVAL;VALUE=DURATION:PT1H
X-Robots-Tag:noindex
X-PUBLISHED-TTL:PT1H
BEGIN:VTIMEZONE
TZID:Europe/Berlin
BEGIN:DAYLIGHT
TZOFFSETFROM:+0100
TZOFFSETTO:+0200
TZNAME:CEST
DTSTART:20210328T010000
END:DAYLIGHT
BEGIN:STANDARD
TZOFFSETFROM:+0200
TZOFFSETTO:+0100
TZNAME:CET
DTSTART:20211031T010000
END:STANDARD
END:VTIMEZONE
BEGIN:VEVENT
DTSTART;TZID=Europe/Berlin:20210504T190000
DTEND;TZID=Europe/Berlin:20210504T200000
DTSTAMP:20260420T014418
CREATED:20210223T221438Z
LAST-MODIFIED:20210418T122030Z
UID:2919-1620154800-1620158400@www.willkommeninolpe.de
SUMMARY:7Ührchen - virtuelle Kneipe Spezial mit Comedian Martin Fromme
DESCRIPTION:organisiert mit u.a. Stadt Olpe und Einrichtungen\,\nim Rahmen des Europäischen Protesttages zur Gleichstellung von Menschen mit Behinderung \nFür alle\, die Lust auf ein virtuelles Bierchen/Tee/Saft haben!\n*Zusammenkommen * Kennenlernen * Quatschen * Fröhlich auseinander gehen*\n– Die alternative „Online-Kneipe”\n– Einfach nette Leute kennenlernen\n– Moderierte Veranstaltung\n– Für neue und alteingesessene Olper*innen\n– Kostenlos & keine Anmeldung notwendig\n– Per Zoom-videokonferenz: Einfach ab 18:50 Uhr reinklicken. \nLink zum Zoom-Meeting: zoom.willkommeninolpe.de \nHabt ihr noch Fragen? Einfach unter dem Beitrag stellen!\n🤩Wir freuen uns auf Euch!🤩\nEuer Willkommen in Olpe – Team\n***\nTeilt gerne den Beitrag\, damit die virtuelle Kneipe voll wird und kommentiert hier unter dem Beitrag\, wie Ihr die Idee findet\, und ob Ihr dabei seid 👏!
URL:http://www.willkommeninolpe.de/veranstaltung/7uehrchen-die-virtuelle-kneipe-2/
LOCATION:NRW
ATTACH;FMTTYPE=image/jpeg:http://www.willkommeninolpe.de/wp-content/uploads/2021/02/Martin_Fromme_Glueckliches_Haendchen_Motiv_Download_Bild2.jpg
END:VEVENT
END:VCALENDAR