BEGIN:VCALENDAR
VERSION:2.0
PRODID:-//Willkommen in Olpe - ECPv6.11.2.1//NONSGML v1.0//EN
CALSCALE:GREGORIAN
METHOD:PUBLISH
X-ORIGINAL-URL:http://www.willkommeninolpe.de
X-WR-CALDESC:Veranstaltungen für Willkommen in Olpe
REFRESH-INTERVAL;VALUE=DURATION:PT1H
X-Robots-Tag:noindex
X-PUBLISHED-TTL:PT1H
BEGIN:VTIMEZONE
TZID:Europe/Berlin
BEGIN:DAYLIGHT
TZOFFSETFROM:+0100
TZOFFSETTO:+0200
TZNAME:CEST
DTSTART:20210328T010000
END:DAYLIGHT
BEGIN:STANDARD
TZOFFSETFROM:+0200
TZOFFSETTO:+0100
TZNAME:CET
DTSTART:20211031T010000
END:STANDARD
END:VTIMEZONE
BEGIN:VEVENT
DTSTART;TZID=Europe/Berlin:20210515T200000
DTEND;TZID=Europe/Berlin:20210515T220000
DTSTAMP:20260420T014506
CREATED:20210401T064232Z
LAST-MODIFIED:20210418T121827Z
UID:2961-1621108800-1621116000@www.willkommeninolpe.de
SUMMARY:Olpe rockt Zusammenhalt mit "Annina Struwe und Hugoonion" / virtuelle Kneipe
DESCRIPTION:20:00-21:00Uhr Zoom – Online-Kneipe 7Ührchen (zoom.willkommeninolpe.de)\n21:00-21:30Uhr Youtube – Live-Konzert mit “SWAY” (konzert.willkommeninolpe.de)\n21:30-22:00Uhr Zoom – Live Nachberichterstattung (zoom.willkommeninolpe.de) \nAlle Infos: orz.willkommeninolpe.de \nFacebook-Veranstaltung: fb.me/e/21cEalTmP
URL:http://www.willkommeninolpe.de/veranstaltung/olpe-rockt-toleranz-mit-annina-struwe-und-hugoonion-virtuelle-kneipe/
LOCATION:NRW
ATTACH;FMTTYPE=image/png:http://www.willkommeninolpe.de/wp-content/uploads/2021/04/hugoonion-1.png
END:VEVENT
END:VCALENDAR