BEGIN:VCALENDAR
VERSION:2.0
PRODID:-//Willkommen in Olpe - ECPv6.11.2.1//NONSGML v1.0//EN
CALSCALE:GREGORIAN
METHOD:PUBLISH
X-WR-CALNAME:Willkommen in Olpe
X-ORIGINAL-URL:http://www.willkommeninolpe.de
X-WR-CALDESC:Veranstaltungen für Willkommen in Olpe
REFRESH-INTERVAL;VALUE=DURATION:PT1H
X-Robots-Tag:noindex
X-PUBLISHED-TTL:PT1H
BEGIN:VTIMEZONE
TZID:Europe/Berlin
BEGIN:DAYLIGHT
TZOFFSETFROM:+0100
TZOFFSETTO:+0200
TZNAME:CEST
DTSTART:20190331T010000
END:DAYLIGHT
BEGIN:STANDARD
TZOFFSETFROM:+0200
TZOFFSETTO:+0100
TZNAME:CET
DTSTART:20191027T010000
END:STANDARD
END:VTIMEZONE
BEGIN:VEVENT
DTSTART;TZID=Europe/Berlin:20190511T100000
DTEND;TZID=Europe/Berlin:20190511T200000
DTSTAMP:20260423T072418
CREATED:20190430T090827Z
LAST-MODIFIED:20190430T090827Z
UID:2542-1557568800-1557604800@www.willkommeninolpe.de
SUMMARY:GROOVE KITCHEN Teil 9
DESCRIPTION:In der kleinen offenen Tür Drolshagen und noch sind Plätze frei! \nMittlerweile in die 9. Runde geht die „große“ Musikwerkstatt GROOVE KITCHEN am Samstag\, den 11.Mai 2019 in der Kleinen offenen Tür in Drolshagen (im St. Clemenshaus).  \nGemeinsam mit der OT Olpe\, der K.o.T. Wenden und dem KJK-Haus Finnentrop finden von 10 bis 20 Uhr in der K.o.T. Drolshagen die Musik-Workshops statt. \nMorgens geht es in die einzelnen Workshops\, um Grundlagen zu erlernen. Nach einem gemeinsamen Mittagessen geht es dann weiter nachmittags in kleinen Bands\, die sich zusammenfinden. Hier werden die Songs für den abendlichen Auftritt geprobt. Ab 19 Uhr ist das Konzert geplant\, bei dem die Teilnehmer zeigen können\, was sie den Tag über geprobt haben. Hierzu sind die Familien und Freunde herzlich eingeladen. \nDas Workshopangebot ist dabei so breit gefächert wie nie zuvor\, es gibt Workshops in den Bereichen:  \nE- und Akustikgitarre \nSongwriting \nSchlagzeug \nCajon und Percussion \nTontechnik \nBass \nSaxofon \nGesang \nund ein Straßenmusik Spezial (Gruppe Morlah: Siehe Foto) \nDie Teilnehmer werden gebeten\, bei den Anmeldungen 3 favorisierte Workshops auszuwählen. Angesprochen sind interessierte Kinder und Jugendliche ab ca. 12 Jahre. \nAnmeldungen sind hier möglich: \n– KJK-Haus Finnentrop: 02721/50748\nAm Markt 5\, 57413 Finnentrop \n– K.o.T. Drolshagen: 02761/71080\nAnnostraße 14\, 57489 Drolshagen \n– K.o.T. Wenden: 02762/2133\nHauptstraße 95a\, 57482 Wenden \n– OT Lorenz-Jaeger Haus Olpe: 02761/83640Frankfurter Str. 24\, 57462 Olpe \nFür nur 15.-€ pro Person seid ihr dabei\, hier ist alles mit drin für den Tag.
URL:http://www.willkommeninolpe.de/veranstaltung/groove-kitchen-teil-9/
LOCATION:K.o.T. Drolshagen\, Annostraße 14\, Drolshagen\, 57489\, Deutschland
ATTACH;FMTTYPE=image/jpeg:http://www.willkommeninolpe.de/wp-content/uploads/2019/04/gk9.jpg
END:VEVENT
BEGIN:VEVENT
DTSTART;TZID=Europe/Berlin:20190513T190000
DTEND;TZID=Europe/Berlin:20190513T210000
DTSTAMP:20260423T072418
CREATED:20190512T061545Z
LAST-MODIFIED:20190512T061911Z
UID:2547-1557774000-1557781200@www.willkommeninolpe.de
SUMMARY:Sondersitzung WiO „Willkommen zu Hause Picknick“
DESCRIPTION:Am 13.5.2019 lädt der Verein „Willkommen in Olpe“ im  Alten  Pastorat ab 19 Uhr zur Sondersitzung ein.  \n\nWir möchten mit allen interessierten Bürgern ein „Willkommen zu Hause Picknick“ am 25.8.2019 ab 13 Uhr gestalten.\n\nJeder\, der Interesse hat mit zu gestalten und Ideen einzubringen\, ist herzlich willkommen\,  diese am kommenden Montag einzubringen.\n\nBisher ist als Rahmen vorgesehen: um den Kurkölner  Platz herum\, bis hin zur Brücke im Weierhohl\, wollen wir mit Euch ein Picknick gestalten\, mit Spielangeboten für die Kleinen\, mit kulinarischen Angeboten aus aller Welt\, mit guten Gesprächen und begleitender Akustik-Musik. Schön wäre  es\, wenn sich Unterstützer anderer Vereine\, Vertreter der Migranten- Selbsthilfe -Organisationen\, Ölper\, Olper\, Buiterlinge\, aller Kulturen und Nationalitäten\,zur gemeinsamen Planung mit uns treffen.\nWir freuen uns auf rege Teilnahme und Rückmeldung.\n\n\n\n\nViele Grüße \n\nZaklina Marjanovic\nVerein Willkommen in Olpe\nwww.willkommeninolpe.de
URL:http://www.willkommeninolpe.de/veranstaltung/sondersitzung-wio-willkommen-zu-hause-picknick/
LOCATION:Altes Pastorat\, Kirchgasse 2\, Olpe\, NRW\, 57462
ATTACH;FMTTYPE=image/jpeg:http://www.willkommeninolpe.de/wp-content/uploads/2019/05/picknick.jpg
END:VEVENT
END:VCALENDAR