BEGIN:VCALENDAR
VERSION:2.0
PRODID:-//Willkommen in Olpe - ECPv6.11.2.1//NONSGML v1.0//EN
CALSCALE:GREGORIAN
METHOD:PUBLISH
X-ORIGINAL-URL:http://www.willkommeninolpe.de
X-WR-CALDESC:Veranstaltungen für Willkommen in Olpe
REFRESH-INTERVAL;VALUE=DURATION:PT1H
X-Robots-Tag:noindex
X-PUBLISHED-TTL:PT1H
BEGIN:VTIMEZONE
TZID:Europe/Berlin
BEGIN:DAYLIGHT
TZOFFSETFROM:+0100
TZOFFSETTO:+0200
TZNAME:CEST
DTSTART:20190331T010000
END:DAYLIGHT
BEGIN:STANDARD
TZOFFSETFROM:+0200
TZOFFSETTO:+0100
TZNAME:CET
DTSTART:20191027T010000
END:STANDARD
END:VTIMEZONE
BEGIN:VEVENT
DTSTART;VALUE=DATE:20190928
DTEND;VALUE=DATE:20190930
DTSTAMP:20260423T003814
CREATED:20190904T103516Z
LAST-MODIFIED:20190904T103517Z
UID:2567-1569628800-1569801599@www.willkommeninolpe.de
SUMMARY:Nachtfrequenz19 - DAS Fest der Jugendkultur in NRW
DESCRIPTION:Vom 28. auf den 29. September 2019 feiern Jugendliche in ganz Nordrhein-Westfalen die nachtfrequenz19 – Nacht der Jugendkultur. Bereits zum 10. Mal präsentiert und fördert dieses Großevent die kulturellen Aktivitäten\, die Ideen und Talente von Jugendlichen ab 14 Jahren. \nFür die Nachtfrqeunz 2019 konnte die OT Olpe im Lorenz-Jaeger-Haus zwei hochkarätige Künstler im Bereich Theater und Musik gewinnen\, die jeweils einen eigenen Workshop zum Thema Improvisation anbieten werden. \nSchauspieler Oliver Dupont aus Berlin ist aus zahlreichen Rollen in TV-Reihen und Serien einem breiteren Fernsehpublikum bekannt.\nHolger Mertin ist ein Multiperkussionist\, Sound-Artist und Musikethnologe. Er ist Dozent für Percussion und Klangsemiotik am Zentrum für Zeitgenössischen Tanz in Köln. \nWer sich für Theater oder Musik interessiert wird in einem der folgenden Workshops sicherlich viel Freude haben. \nDer Raum als/ist Instrument – musikalische Improvisationstechniken\nDer Raum als klanglich-musikalischer Gegenstand – er wird zum Musikinstrument! Die einzelnen Bereiche werden quasi zu eigenständigen Sub-Instrumenten\, wie verschiedene Bodenbereiche\, Fensterscheiben\, Wände\, Stühle oder Bühnen-Podeste. Auch die Luft wird als Instrument an sich zum Schwingen gebracht. Beim Bespielen dieser einzelnen „Instrumente“ bewegt man sich im Raum und bespielt neben dem musikalischen auch den tänzerischen „Raum“.\nAls Gruppe wird der Raum erkundet. Eigene Instrumente können gerne mitgebracht werden\, ist aber kein muß. \nGrundlagen des Improvisationstheaters\nBeim Improvisationstheater entstehen alle Geschichten spontan und erst im Moment des Spiels auf der Bühne. Dafür braucht man eine gute Wahrnehmung des Spielpartners gegenüber und Grundkenntnisse über den Aufbau von Geschichten. In diesem Kurs werden durch spielerische Übungen diese Techniken erlernt\, die Grundlagen des Schauspiels geschult und natürlich verschiedene Improspiele ausprobiert. Es entstehen wahrhaftige Figuren und Geschichten\, die einen selbst\, vor allem aber auch die Zuschauer berühren. Was auch immer passiert – die eigenen Ideen sind gefragt und werden mit den Methoden des Improvisationstheaters spontan umgesetzt. \nZum Abschluss der Nachtfrequenz wird es einen gemeinsamen Auftritt der Musik- und Theatergruppe im großen Saal des Lorenz-Jaeger-Hauses am Sonntag\, 29.09. ab ca. 19:00 Uhr geben.\nAlle Interessierte sind hierzu herzlich eingeladen! Der Eintritt ist frei! \nAnmeldungen werden unter info@lorenz-jaeger-haus.de entgegengenommen.\nDie Teilnahme ist kostenlos! \nDas Projekt wird gefördert durch das Ministerium für Kinder\, Familie\, Flüchtlinge und Integration des Landes NRW.
URL:http://www.willkommeninolpe.de/veranstaltung/nachtfrequenz19-das-fest-der-jugendkultur-in-nrw/
LOCATION:Lorenz-Jaeger-Haus – OT Olpe\, Frankfurter Str. 24\, Olpe\, NRW\, 57462\, Deutschland
ATTACH;FMTTYPE=image/jpeg:http://www.willkommeninolpe.de/wp-content/uploads/2019/09/frequenz.jpg
END:VEVENT
END:VCALENDAR