BEGIN:VCALENDAR
VERSION:2.0
PRODID:-//Willkommen in Olpe - ECPv6.11.2.1//NONSGML v1.0//EN
CALSCALE:GREGORIAN
METHOD:PUBLISH
X-ORIGINAL-URL:http://www.willkommeninolpe.de
X-WR-CALDESC:Veranstaltungen für Willkommen in Olpe
REFRESH-INTERVAL;VALUE=DURATION:PT1H
X-Robots-Tag:noindex
X-PUBLISHED-TTL:PT1H
BEGIN:VTIMEZONE
TZID:Europe/Berlin
BEGIN:DAYLIGHT
TZOFFSETFROM:+0100
TZOFFSETTO:+0200
TZNAME:CEST
DTSTART:20190331T010000
END:DAYLIGHT
BEGIN:STANDARD
TZOFFSETFROM:+0200
TZOFFSETTO:+0100
TZNAME:CET
DTSTART:20191027T010000
END:STANDARD
END:VTIMEZONE
BEGIN:VEVENT
DTSTART;TZID=Europe/Berlin:20191121T190000
DTEND;TZID=Europe/Berlin:20191121T210000
DTSTAMP:20260422T214141
CREATED:20191120T083558Z
LAST-MODIFIED:20191120T083559Z
UID:2655-1574362800-1574370000@www.willkommeninolpe.de
SUMMARY:Runder Tisch für Integration
DESCRIPTION:Tagesordnung \n\nBegrüßung durch die Moderation Fr. Ulrike Beckmann/ Hr. Georg Allebrodt\nInformation zur aktuellen Flüchtlingssituation in Olpe\n– Informationen der Stadt\, des Kreises und des DRK/ der Bezirksregierung Arnsberg ZUE Olpe (Regenbogenland)\nInformation der Ausländerbehörde des Kreises Olpe zu gesetzlichen Änderungen ab 01.01.2020\nAustausch der ehrenamtlichen Initiativen\nAusblick/ Rückblick\n\nca. 21.00 Uhr Ende
URL:http://www.willkommeninolpe.de/veranstaltung/runder-tisch-fuer-integration-3/
LOCATION:Lorenz-Jaeger-Haus – OT Olpe\, Frankfurter Str. 24\, Olpe\, NRW\, 57462\, Deutschland
ATTACH;FMTTYPE=image/jpeg:http://www.willkommeninolpe.de/wp-content/uploads/2017/02/runderTisch.jpg
END:VEVENT
BEGIN:VEVENT
DTSTART;TZID=Europe/Berlin:20191129T160000
DTEND;TZID=Europe/Berlin:20191129T190000
DTSTAMP:20260422T214141
CREATED:20191113T155700Z
LAST-MODIFIED:20191114T062225Z
UID:2571-1575043200-1575054000@www.willkommeninolpe.de
SUMMARY:Willkommen Advent Café
DESCRIPTION:Die Vereine “Willkommen in Olpe”\, “Miteinander in Olpe” und die Kolpingsfamilie veranstalten in diesem Jahr gemeinsam einen Adventsnachmittag in den Räumlichkeiten der ökumenischen Initiative “Warenkorb”/”Die Tafel”.\nAm Freitag\, 29. November\, ab 16 Uhr ist jedermann willkommen. Insbesondere eingeladen sind die Menschen\, die als Kunden vom “Warenkorb” mit Lebensmitteln versorgt werden.\nDie Besucher werden adventlich bewirtet\, außerdem ist für musikalische Umrahmung gesorgt.\nDie Vereine “Willkommen in Olpe” und “Miteinander in Olpe” werden außerdem Geschenke finanzieren und packen\, die mit Schals\, Handschuhen und Mützen für die kalte Jahreszeit gefüllt sein werden.\nAuch können Bürger der Stadt weitere Geschenke beisteuern. Diese können vom 19. bis zum 27. November im Olper Rathaus an der Info-Zentrale im Eingangsbereich abgegeben werden. Die Veranstalter bitten darum\, dass auf den Päckchen vermerkt wird\, ob sie für einen Jungen\, ein Mädchen\, einen Mann oder eine Frau bestimmt sind.
URL:http://www.willkommeninolpe.de/veranstaltung/willkommen-advent-cafe/
LOCATION:Die Tafel – Ökumänische Initiative Warenkorb in Olpe\, Am Bahnhof 12\, Olpe\, 57462\, Deutschland
ATTACH;FMTTYPE=image/jpeg:http://www.willkommeninolpe.de/wp-content/uploads/2019/11/IMG-20191113-WA0000.jpg
END:VEVENT
END:VCALENDAR